BEGIN:VCALENDAR
VERSION:2.0
PRODID:-//I am the Promise Ministries - ECPv6.15.20//NONSGML v1.0//EN
CALSCALE:GREGORIAN
METHOD:PUBLISH
X-WR-CALNAME:I am the Promise Ministries
X-ORIGINAL-URL:https://iamtpm.org
X-WR-CALDESC:Events for I am the Promise Ministries
REFRESH-INTERVAL;VALUE=DURATION:PT1H
X-Robots-Tag:noindex
X-PUBLISHED-TTL:PT1H
BEGIN:VTIMEZONE
TZID:UTC
BEGIN:STANDARD
TZOFFSETFROM:+0000
TZOFFSETTO:+0000
TZNAME:UTC
DTSTART:20230101T000000
END:STANDARD
END:VTIMEZONE
BEGIN:VEVENT
DTSTART;TZID=UTC:20240817T080000
DTEND;TZID=UTC:20240817T170000
DTSTAMP:20260423T184222
CREATED:20240817T121144Z
LAST-MODIFIED:20240817T121144Z
UID:23443-1723881600-1723914000@iamtpm.org
SUMMARY:Walking Through the Word.
DESCRIPTION:Great Morning Family join us as we continue with our series (WORDS)! \nOur main scripture is found in Matthew 12: 34-35
URL:https://iamtpm.org/event/walking-through-the-word-3/
END:VEVENT
BEGIN:VEVENT
DTSTART;TZID=UTC:20240525T110000
DTEND;TZID=UTC:20240525T123000
DTSTAMP:20260423T184222
CREATED:20240506T165603Z
LAST-MODIFIED:20240506T170225Z
UID:23346-1716634800-1716640200@iamtpm.org
SUMMARY:From Barren To Bountiful-Girls Talk
DESCRIPTION:
URL:https://iamtpm.org/event/from-barren-to-bountiful/
END:VEVENT
BEGIN:VEVENT
DTSTART;TZID=UTC:20240525T080000
DTEND;TZID=UTC:20240525T093000
DTSTAMP:20260423T184222
CREATED:20240817T080008Z
LAST-MODIFIED:20240817T120350Z
UID:23344-1716624000-1716629400@iamtpm.org
SUMMARY:WALKING THROUGH THE WORD
DESCRIPTION:
URL:https://iamtpm.org/event/walking-through-the-word-2/
CATEGORIES:Live Stream
END:VEVENT
BEGIN:VEVENT
DTSTART;TZID=UTC:20240518T080000
DTEND;TZID=UTC:20240518T093000
DTSTAMP:20260423T184222
CREATED:20240506T165410Z
LAST-MODIFIED:20240506T165410Z
UID:23342-1716019200-1716024600@iamtpm.org
SUMMARY:Walking Through the Word
DESCRIPTION:
URL:https://iamtpm.org/event/walking-through-the-word/
END:VEVENT
BEGIN:VEVENT
DTSTART;TZID=UTC:20240516T190000
DTEND;TZID=UTC:20240516T203000
DTSTAMP:20260423T184222
CREATED:20240506T165949Z
LAST-MODIFIED:20240506T165949Z
UID:23348-1715886000-1715891400@iamtpm.org
SUMMARY:TUNE-UP THURSDAY
DESCRIPTION:
URL:https://iamtpm.org/event/tune-up-thursday-2/
END:VEVENT
BEGIN:VEVENT
DTSTART;TZID=UTC:20240511T080000
DTEND;TZID=UTC:20240511T090000
DTSTAMP:20260423T184222
CREATED:20240503T030106Z
LAST-MODIFIED:20240503T211313Z
UID:23110-1715414400-1715418000@iamtpm.org
SUMMARY:I.AM.T.P.M Podcast
DESCRIPTION:Every Saturday @ 8:00 Am CST & the 1st and 3rd Thursday of the month @ 7:00 PM
URL:https://iamtpm.org/event/i-am-t-p-m-podcast-2/
CATEGORIES:Live Stream
END:VEVENT
BEGIN:VEVENT
DTSTART;TZID=UTC:20240504T080000
DTEND;TZID=UTC:20240504T090000
DTSTAMP:20260423T184222
CREATED:20240503T025930Z
LAST-MODIFIED:20240503T025930Z
UID:23108-1714809600-1714813200@iamtpm.org
SUMMARY:I.AM.T.P.M Podcast
DESCRIPTION:Every Saturday @ 8:00 Am CST & the 1st and 3rd Thursday of the month @ 7:00 PM
URL:https://iamtpm.org/event/i-am-t-p-m-podcast/
END:VEVENT
END:VCALENDAR